BEGIN:VCALENDAR
VERSION:2.0
PRODID:-//Sophicity/Tribune/Austell, GA
BEGIN:VEVENT
DTSTAMP:20260425T231837Z
UID:a1733420-de66-4c35-a6bc-729777b7b117-5384
DTSTART:20220324T230000Z
DTEND:20220324T230000Z
CLASS:PUBLIC
SUMMARY:Gas Board Meeting
END:VEVENT
END:VCALENDAR
