BEGIN:VCALENDAR
VERSION:2.0
PRODID:-//Sophicity/Tribune/Austell, GA
BEGIN:VEVENT
DTSTAMP:20260425T230845Z
UID:a1733420-de66-4c35-a6bc-729777b7b117-5380
DTSTART:20220309T200000Z
DTEND:20220309T200000Z
CLASS:PUBLIC
SUMMARY:Court Arraignment 3PM
END:VEVENT
END:VCALENDAR
