BEGIN:VCALENDAR
VERSION:2.0
PRODID:-//Sophicity/Tribune/Austell, GA
BEGIN:VEVENT
DTSTAMP:20260426T021951Z
UID:a1733420-de66-4c35-a6bc-729777b7b117-5294
DTSTART:20220117T130000Z
DTEND:20220117T220000Z
CLASS:PUBLIC
SUMMARY:City Closed: Martin Luther King Day Jr.
END:VEVENT
END:VCALENDAR
