BEGIN:VCALENDAR
VERSION:2.0
PRODID:-//Sophicity/Tribune/Austell, GA
BEGIN:VEVENT
DTSTAMP:20260426T022323Z
UID:a1733420-de66-4c35-a6bc-729777b7b117-5289
DTSTART:20211227T230000Z
DTEND:20211228T000000Z
CLASS:PUBLIC
SUMMARY:Pre-Agenda Meeting
END:VEVENT
END:VCALENDAR
