BEGIN:VCALENDAR
VERSION:2.0
PRODID:-//Sophicity/Tribune/Austell, GA
BEGIN:VEVENT
DTSTAMP:20260426T035425Z
UID:a1733420-de66-4c35-a6bc-729777b7b117-5281
DTSTART:20210726T220000Z
DTEND:20210726T230000Z
CLASS:PUBLIC
SUMMARY:Pre-agenda
END:VEVENT
END:VCALENDAR
