BEGIN:VCALENDAR
VERSION:2.0
PRODID:-//Sophicity/Tribune/Austell, GA
BEGIN:VEVENT
DTSTAMP:20260426T035556Z
UID:a1733420-de66-4c35-a6bc-729777b7b117-5278
DTSTART:20210107T200000Z
DTEND:20210107T210000Z
CLASS:PUBLIC
SUMMARY:Court-Arraignment
END:VEVENT
END:VCALENDAR
