BEGIN:VCALENDAR
VERSION:2.0
PRODID:-//Sophicity/Tribune/Austell, GA
BEGIN:VEVENT
DTSTAMP:20260426T040215Z
UID:a1733420-de66-4c35-a6bc-729777b7b117-5223
DTSTART:20211207T000000Z
DTEND:20211207T010000Z
CLASS:PUBLIC
SUMMARY:Council Meeting
END:VEVENT
END:VCALENDAR
