BEGIN:VCALENDAR
VERSION:2.0
PRODID:-//Sophicity/Tribune/Austell, GA
BEGIN:VEVENT
DTSTAMP:20260425T231008Z
UID:a1733420-de66-4c35-a6bc-729777b7b117-5216
DTSTART:20210503T230000Z
DTEND:20210504T000000Z
CLASS:PUBLIC
SUMMARY:Council Meeting
END:VEVENT
END:VCALENDAR
