BEGIN:VCALENDAR
VERSION:2.0
PRODID:-//Sophicity/Tribune/Austell, GA
BEGIN:VEVENT
DTSTAMP:20260426T022323Z
UID:a1733420-de66-4c35-a6bc-729777b7b117-5208
DTSTART:20210628T220000Z
DTEND:20210628T230000Z
CLASS:PUBLIC
SUMMARY:Pre-Agenda
END:VEVENT
END:VCALENDAR
