BEGIN:VCALENDAR
VERSION:2.0
PRODID:-//Sophicity/Tribune/Austell, GA
BEGIN:VEVENT
DTSTAMP:20260425T231256Z
UID:a1733420-de66-4c35-a6bc-729777b7b117-5206
DTSTART:20210426T220000Z
DTEND:20210426T230000Z
CLASS:PUBLIC
SUMMARY:Pre-Agenda
END:VEVENT
END:VCALENDAR
