BEGIN:VCALENDAR
VERSION:2.0
PRODID:-//Sophicity/Tribune/Austell, GA
BEGIN:VEVENT
DTSTAMP:20260426T022408Z
UID:a1733420-de66-4c35-a6bc-729777b7b117-5025
DTSTART:20221231T130000Z
DTEND:20221231T220000Z
CLASS:PUBLIC
SUMMARY:Holiday/City Closed New Year's Eve
END:VEVENT
END:VCALENDAR
