BEGIN:VCALENDAR
VERSION:2.0
PRODID:-//Sophicity/Tribune/Austell, GA
BEGIN:VEVENT
DTSTAMP:20260426T022151Z
UID:a1733420-de66-4c35-a6bc-729777b7b117-5024
DTSTART:20211231T130000Z
DTEND:20211231T220000Z
CLASS:PUBLIC
SUMMARY:Holiday/City Closed New Year's Eve
END:VEVENT
END:VCALENDAR
