BEGIN:VCALENDAR
VERSION:2.0
PRODID:-//Sophicity/Tribune/Austell, GA
BEGIN:VEVENT
DTSTAMP:20260426T022949Z
UID:a1733420-de66-4c35-a6bc-729777b7b117-5021
DTSTART:20221225T130000Z
DTEND:20221225T220000Z
CLASS:PUBLIC
SUMMARY:Christmas Day
END:VEVENT
END:VCALENDAR
