BEGIN:VCALENDAR
VERSION:2.0
PRODID:-//Sophicity/Tribune/Austell, GA
BEGIN:VEVENT
DTSTAMP:20260426T040128Z
UID:a1733420-de66-4c35-a6bc-729777b7b117-5017
DTSTART:20211225T130000Z
DTEND:20211225T220000Z
CLASS:PUBLIC
SUMMARY:Christmas Day
END:VEVENT
END:VCALENDAR
