BEGIN:VCALENDAR
VERSION:2.0
PRODID:-//Sophicity/Tribune/Austell, GA
BEGIN:VEVENT
DTSTAMP:20260426T040128Z
UID:a1733420-de66-4c35-a6bc-729777b7b117-5013
DTSTART:20211224T130000Z
DTEND:20211224T220000Z
CLASS:PUBLIC
SUMMARY:Holiday/City Closed Christmas Eve
END:VEVENT
END:VCALENDAR
