BEGIN:VCALENDAR
VERSION:2.0
PRODID:-//Sophicity/Tribune/Austell, GA
BEGIN:VEVENT
DTSTAMP:20260426T035605Z
UID:a1733420-de66-4c35-a6bc-729777b7b117-5011
DTSTART:20211222T170000Z
DTEND:20211222T220000Z
CLASS:PUBLIC
SUMMARY:Holiday/City Closes @12PM
END:VEVENT
END:VCALENDAR
