BEGIN:VCALENDAR
VERSION:2.0
PRODID:-//Sophicity/Tribune/Austell, GA
BEGIN:VEVENT
DTSTAMP:20260426T040108Z
UID:a1733420-de66-4c35-a6bc-729777b7b117-5010
DTSTART:20211214T174000Z
DTEND:20211214T174000Z
CLASS:PUBLIC
SUMMARY:CMA Meeting
END:VEVENT
END:VCALENDAR
