BEGIN:VCALENDAR
VERSION:2.0
PRODID:-//Sophicity/Tribune/Austell, GA
BEGIN:VEVENT
DTSTAMP:20260426T035605Z
UID:a1733420-de66-4c35-a6bc-729777b7b117-5009
DTSTART:20211213T220000Z
DTEND:20211213T223000Z
CLASS:PUBLIC
SUMMARY:Final Council Material Due
END:VEVENT
END:VCALENDAR
