BEGIN:VCALENDAR
VERSION:2.0
PRODID:-//Sophicity/Tribune/Austell, GA
BEGIN:VEVENT
DTSTAMP:20260426T040229Z
UID:a1733420-de66-4c35-a6bc-729777b7b117-5008
DTSTART:20211215T223000Z
DTEND:20211215T233000Z
CLASS:PUBLIC
SUMMARY:Court-Trial
END:VEVENT
END:VCALENDAR
