BEGIN:VCALENDAR
VERSION:2.0
PRODID:-//Sophicity/Tribune/Austell, GA
BEGIN:VEVENT
DTSTAMP:20260426T040236Z
UID:a1733420-de66-4c35-a6bc-729777b7b117-5006
DTSTART:20211201T200000Z
DTEND:20211201T210000Z
CLASS:PUBLIC
SUMMARY:Court-Arraignment
END:VEVENT
END:VCALENDAR
