BEGIN:VCALENDAR
VERSION:2.0
PRODID:-//Sophicity/Tribune/Austell, GA
BEGIN:VEVENT
DTSTAMP:20260426T022322Z
UID:a1733420-de66-4c35-a6bc-729777b7b117-4995
DTSTART:20231112T010000Z
DTEND:20231112T013000Z
CLASS:PUBLIC
SUMMARY:Veterans Day
END:VEVENT
END:VCALENDAR
