BEGIN:VCALENDAR
VERSION:2.0
PRODID:-//Sophicity/Tribune/Austell, GA
BEGIN:VEVENT
DTSTAMP:20260426T035537Z
UID:a1733420-de66-4c35-a6bc-729777b7b117-4969
DTSTART:20210721T213000Z
DTEND:20210721T223000Z
CLASS:PUBLIC
SUMMARY:Court-Trial
END:VEVENT
END:VCALENDAR
