BEGIN:VCALENDAR
VERSION:2.0
PRODID:-//Sophicity/Tribune/Austell, GA
BEGIN:VEVENT
DTSTAMP:20260426T035425Z
UID:a1733420-de66-4c35-a6bc-729777b7b117-4967
DTSTART:20210714T190000Z
DTEND:20210714T200000Z
CLASS:PUBLIC
SUMMARY:Court-Arraignment
END:VEVENT
END:VCALENDAR
