BEGIN:VCALENDAR
VERSION:2.0
PRODID:-//Sophicity/Tribune/Austell, GA
BEGIN:VEVENT
DTSTAMP:20260426T005405Z
UID:a1733420-de66-4c35-a6bc-729777b7b117-4958
DTSTART:20220704T120000Z
DTEND:20220704T210000Z
CLASS:PUBLIC
SUMMARY:Independence Day 
END:VEVENT
END:VCALENDAR
