BEGIN:VCALENDAR
VERSION:2.0
PRODID:-//Sophicity/Tribune/Austell, GA
BEGIN:VEVENT
DTSTAMP:20260426T005312Z
UID:a1733420-de66-4c35-a6bc-729777b7b117-4944
DTSTART:20210527T213000Z
DTEND:20210527T223000Z
CLASS:PUBLIC
SUMMARY:Court-Trial
END:VEVENT
END:VCALENDAR
