BEGIN:VCALENDAR
VERSION:2.0
PRODID:-//Sophicity/Tribune/Austell, GA
BEGIN:VEVENT
DTSTAMP:20260426T005441Z
UID:a1733420-de66-4c35-a6bc-729777b7b117-4943
DTSTART:20210520T213000Z
DTEND:20210520T223000Z
CLASS:PUBLIC
SUMMARY:Court-Arraignment
END:VEVENT
END:VCALENDAR
