BEGIN:VCALENDAR
VERSION:2.0
PRODID:-//Sophicity/Tribune/Austell, GA
BEGIN:VEVENT
DTSTAMP:20260425T231003Z
UID:a1733420-de66-4c35-a6bc-729777b7b117-4932
DTSTART:20210419T210000Z
DTEND:20210419T220000Z
CLASS:PUBLIC
SUMMARY:Final Council Material Due
END:VEVENT
END:VCALENDAR
