BEGIN:VCALENDAR
VERSION:2.0
PRODID:-//Sophicity/Tribune/Austell, GA
BEGIN:VEVENT
DTSTAMP:20260425T231837Z
UID:a1733420-de66-4c35-a6bc-729777b7b117-4929
DTSTART:20210401T213000Z
DTEND:20210401T220000Z
CLASS:PUBLIC
SUMMARY:Court-Arraignment
END:VEVENT
END:VCALENDAR
