BEGIN:VCALENDAR
VERSION:2.0
PRODID:-//Sophicity/Tribune/Austell, GA
BEGIN:VEVENT
DTSTAMP:20260425T182800Z
UID:a1733420-de66-4c35-a6bc-729777b7b117-4928
DTSTART:20250320T142000Z
DTEND:20250320T142000Z
CLASS:PUBLIC
SUMMARY:Spring Begins
END:VEVENT
END:VCALENDAR
