BEGIN:VCALENDAR
VERSION:2.0
PRODID:-//Sophicity/Tribune/Austell, GA
BEGIN:VEVENT
DTSTAMP:20260426T005327Z
UID:a1733420-de66-4c35-a6bc-729777b7b117-4924
DTSTART:20210320T142000Z
DTEND:20210320T142000Z
CLASS:PUBLIC
SUMMARY:Spring Begins
END:VEVENT
END:VCALENDAR
