BEGIN:VCALENDAR
VERSION:2.0
PRODID:-//Sophicity/Tribune/Austell, GA
BEGIN:VEVENT
DTSTAMP:20260426T005517Z
UID:a1733420-de66-4c35-a6bc-729777b7b117-4920
DTSTART:20210314T141600Z
DTEND:20210314T141600Z
CLASS:PUBLIC
SUMMARY:Daylight Savings Time Begins
END:VEVENT
END:VCALENDAR
