BEGIN:VCALENDAR
VERSION:2.0
PRODID:-//Sophicity/Tribune/Austell, GA
BEGIN:VEVENT
DTSTAMP:20260426T005405Z
UID:a1733420-de66-4c35-a6bc-729777b7b117-4918
DTSTART:20210311T223000Z
DTEND:20210311T233000Z
CLASS:PUBLIC
SUMMARY:Court-Arraignment
END:VEVENT
END:VCALENDAR
