BEGIN:VCALENDAR
VERSION:2.0
PRODID:-//Sophicity/Tribune/Austell, GA
BEGIN:VEVENT
DTSTAMP:20260425T211725Z
UID:a1733420-de66-4c35-a6bc-729777b7b117-4873
DTSTART:20220420T183000Z
DTEND:20220420T190000Z
CLASS:PUBLIC
SUMMARY:Committee Meetings
END:VEVENT
END:VCALENDAR
