BEGIN:VCALENDAR
VERSION:2.0
PRODID:-//Sophicity/Tribune/Austell, GA
BEGIN:VEVENT
DTSTAMP:20260426T040128Z
UID:a1733420-de66-4c35-a6bc-729777b7b117-4869
DTSTART:20211215T193000Z
DTEND:20211215T200000Z
CLASS:PUBLIC
SUMMARY:Committee Meetings
END:VEVENT
END:VCALENDAR
