BEGIN:VCALENDAR
VERSION:2.0
PRODID:-//Sophicity/Tribune/Austell, GA
BEGIN:VEVENT
DTSTAMP:20260426T005441Z
UID:a1733420-de66-4c35-a6bc-729777b7b117-4860
DTSTART:20210317T183000Z
DTEND:20210317T190000Z
CLASS:PUBLIC
SUMMARY:Committee Meetings
END:VEVENT
END:VCALENDAR
