BEGIN:VCALENDAR
VERSION:2.0
PRODID:-//Sophicity/Tribune/Austell, GA
BEGIN:VEVENT
DTSTAMP:20260426T035536Z
UID:a1733420-de66-4c35-a6bc-729777b7b117-4853
DTSTART:20210722T230000Z
DTEND:20210723T000000Z
CLASS:PUBLIC
SUMMARY:Austell Gas Board Mtg
END:VEVENT
END:VCALENDAR
