BEGIN:VCALENDAR
VERSION:2.0
PRODID:-//Sophicity/Tribune/Austell, GA
BEGIN:VEVENT
DTSTAMP:20260426T005454Z
UID:a1733420-de66-4c35-a6bc-729777b7b117-4851
DTSTART:20210527T230000Z
DTEND:20210528T000000Z
CLASS:PUBLIC
SUMMARY:Austell Gas Board Mtg
END:VEVENT
END:VCALENDAR
