BEGIN:VCALENDAR
VERSION:2.0
PRODID:-//Sophicity/Tribune/Austell, GA
BEGIN:VEVENT
DTSTAMP:20260425T230850Z
UID:a1733420-de66-4c35-a6bc-729777b7b117-4850
DTSTART:20210422T230000Z
DTEND:20210423T000000Z
CLASS:PUBLIC
SUMMARY:Austell Gas Board Mtg
END:VEVENT
END:VCALENDAR
