BEGIN:VCALENDAR
VERSION:2.0
PRODID:-//Sophicity/Tribune/Austell, GA
BEGIN:VEVENT
DTSTAMP:20260426T022039Z
UID:a1733420-de66-4c35-a6bc-729777b7b117-4848
DTSTART:20210226T000000Z
DTEND:20210226T010000Z
CLASS:PUBLIC
SUMMARY:Austell Gas Board Mtg
END:VEVENT
END:VCALENDAR
