BEGIN:VCALENDAR
VERSION:2.0
PRODID:-//Sophicity/Tribune/Austell, GA
BEGIN:VEVENT
DTSTAMP:20260426T021907Z
UID:a1733420-de66-4c35-a6bc-729777b7b117-4772
DTSTART:20210608T220000Z
DTEND:20210608T230000Z
CLASS:PUBLIC
SUMMARY:P & Z Meeting
END:VEVENT
END:VCALENDAR
