BEGIN:VCALENDAR
VERSION:2.0
PRODID:-//Sophicity/Tribune/Austell, GA
BEGIN:VEVENT
DTSTAMP:20260426T005329Z
UID:a1733420-de66-4c35-a6bc-729777b7b117-4769
DTSTART:20210309T230000Z
DTEND:20210310T000000Z
CLASS:PUBLIC
SUMMARY:P & Z Meeting
END:VEVENT
END:VCALENDAR
