BEGIN:VCALENDAR
VERSION:2.0
PRODID:-//Sophicity/Tribune/Austell, GA
BEGIN:VEVENT
DTSTAMP:20260426T022500Z
UID:a1733420-de66-4c35-a6bc-729777b7b117-4703
DTSTART:20210222T230000Z
DTEND:20210223T000000Z
CLASS:PUBLIC
SUMMARY:Pre-Agenda
END:VEVENT
END:VCALENDAR
