BEGIN:VCALENDAR
VERSION:2.0
PRODID:-//Sophicity/Tribune/Austell, GA
BEGIN:VEVENT
DTSTAMP:20260426T021651Z
UID:a1733420-de66-4c35-a6bc-729777b7b117-4698
DTSTART:20210209T230000Z
DTEND:20210210T000000Z
CLASS:PUBLIC
SUMMARY:P & Z Meeting
END:VEVENT
END:VCALENDAR
