BEGIN:VCALENDAR
VERSION:2.0
PRODID:-//Sophicity/Tribune/Austell, GA
BEGIN:VEVENT
DTSTAMP:20260426T035557Z
UID:a1733420-de66-4c35-a6bc-729777b7b117-4693
DTSTART:20210125T230000Z
DTEND:20210125T233000Z
CLASS:PUBLIC
SUMMARY:Pre-Agenda - Webcast
END:VEVENT
END:VCALENDAR
