BEGIN:VCALENDAR
VERSION:2.0
PRODID:-//Sophicity/Tribune/Austell, GA
BEGIN:VEVENT
DTSTAMP:20260426T035548Z
UID:a1733420-de66-4c35-a6bc-729777b7b117-4692
DTSTART:20210120T193000Z
DTEND:20210120T200000Z
CLASS:PUBLIC
SUMMARY:Committee Meetings
END:VEVENT
END:VCALENDAR
