BEGIN:VCALENDAR
VERSION:2.0
PRODID:-//Sophicity/Tribune/Austell, GA
BEGIN:VEVENT
DTSTAMP:20260426T035655Z
UID:a1733420-de66-4c35-a6bc-729777b7b117-4691
DTSTART:20210119T220000Z
DTEND:20210119T223000Z
CLASS:PUBLIC
SUMMARY:Final Council Material Due
END:VEVENT
END:VCALENDAR
