BEGIN:VCALENDAR
VERSION:2.0
PRODID:-//Sophicity/Tribune/Austell, GA
BEGIN:VEVENT
DTSTAMP:20260426T035403Z
UID:a1733420-de66-4c35-a6bc-729777b7b117-4682
DTSTART:20210118T130000Z
DTEND:20210118T220000Z
CLASS:PUBLIC
SUMMARY:Holiday/City Closed Martin Luther King Jr.
END:VEVENT
END:VCALENDAR
