BEGIN:VCALENDAR
VERSION:2.0
PRODID:-//Sophicity/Tribune/Austell, GA
BEGIN:VEVENT
DTSTAMP:20260426T035420Z
UID:a1733420-de66-4c35-a6bc-729777b7b117-4680
DTSTART:20210112T230000Z
DTEND:20210113T000000Z
LOCATION:City Hall
CLASS:PUBLIC
SUMMARY:P & Z Meeting
END:VEVENT
END:VCALENDAR
