BEGIN:VCALENDAR
VERSION:2.0
PRODID:-//Sophicity/Tribune/Austell, GA
BEGIN:VEVENT
DTSTAMP:20260426T005329Z
UID:a1733420-de66-4c35-a6bc-729777b7b117-4629
DTSTART:20200427T220000Z
DTEND:20200427T230000Z
CLASS:PUBLIC
SUMMARY:Pre-Agenda 6 PM
END:VEVENT
END:VCALENDAR
