BEGIN:VCALENDAR
VERSION:2.0
PRODID:-//Sophicity/Tribune/Austell, GA
BEGIN:VEVENT
DTSTAMP:20260426T005329Z
UID:a1733420-de66-4c35-a6bc-729777b7b117-4628
DTSTART:20200415T183000Z
DTEND:20200415T183000Z
CLASS:PUBLIC
SUMMARY:Committee Meetings Cancelled
END:VEVENT
END:VCALENDAR
